BEGIN:VCALENDAR
VERSION:2.0
PRODID:https://www.atlanticzeiser.com
X-PUBLISHED-TTL:P1W
BEGIN:VEVENT
UID:69e837891a3be
DTSTART;VALUE=DATE:20250617
SEQUENCE:0
TRANSP:OPAQUE
DTEND;VALUE=DATE:20250619
URL:https://www.atlanticzeiser.com/en/exhibitions/identity-week-2025-elevat
 e-id-card-personalization
LOCATION:Amsterdam\, Netherlands
SUMMARY:Identity Week 2025: Elevate ID Card Personalization
CLASS:PUBLIC
X-ALT-DESC;FMTTYPE=text/html:<p>As identity programs evolve\, so do the req
 uirements for secure\, efficient\, and cost-effective card issuance. Meet 
 up with our experts in Amsterdam to discuss how you can stay ahead in a ra
 pidly evolving market.&nbsp\;</p>\n\n<ul>\n<li>\n<p>17 – 18 June 2025</p
 >\n</li>\n<li>\n<p>Hall 8\, Stand 210</p>\n</li>\n<li>\n<p>RAI\, Amsterdam
 </p>\n</li>\n</ul>\n\n<p>Explore our powerful range of solutions for relia
 ble and consistent ID card personalization and mailing with our experts!&n
 bsp\;</p>\n\n<ul>\n<li>\n<p><strong>PERSOSMART – high-quality\, secure a
 nd cost-effective card personalization</strong></p>\n</li>\n<li>\n<p><stro
 ng>MAILMASTER – efficient\, accurate and secure card mailing</strong></p
 >\n</li>\n</ul>\n\n<p><strong>Book a meeting with our team today!</strong>
 &nbsp\;<br />\nT +49 7465 291157 | E az.vi@atlanticzeiser.com&nbsp\;</p>\n
 \, coesia_editor_manager
X-MICROSOFT-CDO-ALLDAYEVENT:TRUE
DTSTAMP:20260422T045049Z
END:VEVENT
END:VCALENDAR