BEGIN:VCALENDAR
VERSION:2.0
PRODID:https://www.atlanticzeiser.com
X-PUBLISHED-TTL:P1W
BEGIN:VEVENT
UID:69e7e5cb5f9cf
DTSTART;VALUE=DATE:20251202
SEQUENCE:0
TRANSP:OPAQUE
DTEND;VALUE=DATE:20251205
URL:https://www.atlanticzeiser.com/en/exhibitions/trustech-2025
LOCATION:Paris\, France
SUMMARY:TRUSTECH 2025
CLASS:PUBLIC
X-ALT-DESC;FMTTYPE=text/html:<h2>Secure card personalization at its best</h
 2><p>Atlantic Zeiser is proud to announce its participation at TRUSTECH 20
 25\, where we will showcase our expertise in secure card personalization a
 nd digital printing solutions. At this key industry event\, we look forwar
 d to engaging with visitors and addressing their most pressing challenges.
 </p><p>Our team will be on-site to discuss the latest enhancements to <s
 trong>PERSOSMART</strong>\, our compact solution for <strong>financial</st
 rong> and <strong>ID card personalization</strong> – <strong>now even fa
 ster</strong> and <strong>more cost-effective</strong> thanks to a redesig
 n.</p><p>At our booth you can also find out more about:</p><ul><li>High-ou
 tput personalization for <strong>commercial cards</strong>\, now with <str
 ong>RFID encoding</strong></li><li>The next level of <strong>card mailing<
 /strong> efficiency</li></ul><p>Our systems work with a <strong>wide range
  of materials</strong> including PVC\, metal\, Ocean Plastic\, and wood\, 
 and are designed to meet global industry standards.</p><p>Explore how we
 ’re addressing key trends like sustainability\, flexible production\, an
 d rising compliance complexity.</p><h4>Visit us at booth C 025 and see how
  we’re shaping the future of secure card personalization.</h4>\, coesia_
 editor_manager
X-MICROSOFT-CDO-ALLDAYEVENT:TRUE
DTSTAMP:20260421T230203Z
END:VEVENT
END:VCALENDAR