BEGIN:VCALENDAR
VERSION:2.0
PRODID:https://www.atlanticzeiser.com
X-PUBLISHED-TTL:P1W
BEGIN:VEVENT
UID:69e7e49c70aa7
DTSTART;VALUE=DATE:20250527
SEQUENCE:0
TRANSP:OPAQUE
DTEND;VALUE=DATE:20250531
URL:https://www.atlanticzeiser.com/en/exhibitions/ipack-ima-maximize-the-po
 wer-of-your-packaging-codes
LOCATION:Fiera Milano\, Milan\, Italy
SUMMARY:IPACK IMA: Maximize the power of your packaging codes
CLASS:PUBLIC
X-ALT-DESC;FMTTYPE=text/html:<ul>\n<li>\n<p><strong>IPACK-IMA\, Fiera Milan
 o\, Milan\, Italy&nbsp\;</strong></p>\n</li>\n<li>\n<p><strong>Coesia Boot
 h | Hall 7\, Booth A46-B45&nbsp\;</strong></p>\n</li>\n<li>\n<p><strong>Di
 scover digital printing solutions to support GS1 Sunrise requirements and 
 serialization for Consumer Goods packaging &nbsp\;</strong></p>\n</li>\n</
 ul>\n\n<p>Atlantic Zeiser\, a Coesia company specializing in digital print
 ing solutions for packaging on-demand\, will be present at<strong> IPACK I
 MA 2025</strong>. Alongside its sister companies Acma\, Citux Kalix\, Flex
 Link\, Norden\, Volpak\, and Coesia partner PWR\, Atlantic Zeiser will int
 roduce solutions to optimize production processes and help customers easil
 y adapt to new requirements such as GS1 Sunrise and secure serialization. 
 &nbsp\;</p>\n\n<p>We empower customers to <strong>produce more efficiently
 </strong>\, win new businesses and <strong>protect their brands along the 
 supply chain</strong>. By continuously adapting to evolving market needs\,
  we deliver the most suitable solutions to our customers.&nbsp\;</p>\n\n<p
 >Automation has long been the backbone of manufacturing\, and Coesia has c
 onsistently led this technological change with continuous investment in in
 novative solutions and services. The group’s advanced automated systems 
 minimize human intervention\, freeing operators for value-adding activitie
 s and driving manufacturing efficiency and productivity.&nbsp\;</p>\n\n<p>
 <strong>Future-proof with 2D codes&nbsp\;</strong></p>\n\n<p>Atlantic Zeis
 er’s printing solutions optimize production processes and help customers
  easily implement new requirements\, as called for by <strong>GS1 Sunrise<
 /strong>. Our <strong>innovative late-stage printing technology</strong> o
 ffers <strong>maximum flexibility</strong>\, supporting your transition to
  2D codes.&nbsp\;</p>\n\n<p><strong>Strengthen trust in your brands&nbsp\;
 </strong></p>\n\n<p>Atlantic Zeiser offers <strong>anti-diversion solution
 s</strong> that allow brand owners <strong>traceability through serializat
 ion</strong>. Our <strong>new integrated CodeVault application</strong> se
 curely generates\, stores and distributes serial codes with structured dat
 a. &nbsp\;</p>\n\n<p>Visit us at IPACK IMA 2025 and experience firsthand h
 ow Atlantic Zeiser's innovative solutions can transform your production ef
 ficiency and brand protection. Don't miss this opportunity to future-proof
  your operations and stay ahead in the market!&nbsp\;</p>\n\n<p>Make an ap
 pointment with our experts!&nbsp\;</p>\n\, coesia_editor_manager
X-MICROSOFT-CDO-ALLDAYEVENT:TRUE
DTSTAMP:20260421T225700Z
END:VEVENT
END:VCALENDAR