BEGIN:VCALENDAR
VERSION:2.0
PRODID:https://www.atlanticzeiser.com
X-PUBLISHED-TTL:P1W
BEGIN:VEVENT
UID:69e827c7470de
DTSTART;VALUE=DATE:20230504
SEQUENCE:0
TRANSP:OPAQUE
DTEND;VALUE=DATE:20230511
URL:https://www.atlanticzeiser.com/en/exhibitions/interpack-2023
LOCATION:Düsseldorf\, Germany
SUMMARY:INTERPACK
CLASS:PUBLIC
X-ALT-DESC;FMTTYPE=text/html:<p>The international exhibition for packaging 
 -- interpack ©</p>\n\n<p>Meet Atlantic Zeiser @ <a href=\"https://www.int
 erpack.com/vis/v1/en/exhprofiles/VOBC1LpwRqqWVV1JeaFf6g?oid=55128&amp\;lan
 g=2&amp\;_query=coesia\" target=\"_blank\">Interpack • Hall 6 – Coesia
  booth D31-D57</a></p>\n\n<h3 align=\"center\" style=\"color: rgb(200\, 16
 \, 52)\">Highlights</h3>\n\n<p align=\"center\"><strong>––––––
 ––––––––––––––</strong></p>\n\n<p align=\"cent
 er\"><strong>DIGILINE Vario – Stop by to see it live in action!</strong>
 <br />\n<br />\nThe <strong>ProFlo inkjet technology</strong> gives the DI
 GILINE Vario especially vivid colors and the best printing quality even fo
 r smallest details in the form of graphics\, fonts\, coding\, and serializ
 ation. The DIGILINE Vario also features a pre-validated package comprising
  printing and inspection units sharing the same end-to-end PDF workflow. N
 o reference image must be generated – inspection is based only on the or
 iginal PDF and encompasses the entire print image.<br />\n<br />\n<a href=
 \"/en/solutions/product/digiline-vario\" style=\"color: rgb(200\, 16\, 52)
 \; text-decoration: none\;\" target=\"_blank\"><strong>➜ READ MORE</stro
 ng></a></p>\n\n<p align=\"center\"><strong>––––––––––
 ––––––––––</strong></p>\n\, coesia_editor_manager
X-MICROSOFT-CDO-ALLDAYEVENT:TRUE
DTSTAMP:20260422T034335Z
END:VEVENT
END:VCALENDAR