BEGIN:VCALENDAR
VERSION:2.0
PRODID:https://www.atlanticzeiser.com
X-PUBLISHED-TTL:P1W
BEGIN:VEVENT
UID:69e7fe2b92e19
DTSTART;VALUE=DATE:20230523
SEQUENCE:0
TRANSP:OPAQUE
DTEND;VALUE=DATE:20230525
URL:https://www.atlanticzeiser.com/en/exhibitions/seamless-middle-east-2023
LOCATION:Dubai\, UAE
SUMMARY:SEAMLESS MIDDLE EAST
CLASS:PUBLIC
X-ALT-DESC;FMTTYPE=text/html:<p style=\"margin-bottom:11px\">The future of 
 digital commerce.</p>\n\n<p><a href=\"https://www.terrapinn.com/exhibition
 /seamless-middle-east/index.stm\" style=\"text-decoration: none\;\" target
 =\"_blank\">➜ Discover more</a></p>\n\, coesia_editor_manager
X-MICROSOFT-CDO-ALLDAYEVENT:TRUE
DTSTAMP:20260422T004603Z
END:VEVENT
END:VCALENDAR