BEGIN:VCALENDAR
VERSION:2.0
PRODID:https://www.atlanticzeiser.com
X-PUBLISHED-TTL:P1W
BEGIN:VEVENT
UID:69e829f3c84a7
DTSTART;VALUE=DATE:20241203
SEQUENCE:0
TRANSP:OPAQUE
DTEND;VALUE=DATE:20241206
URL:https://www.atlanticzeiser.com/en/exhibitions/trustech-2024
LOCATION:Paris\, France
SUMMARY:TRUSTECH
CLASS:PUBLIC
X-ALT-DESC;FMTTYPE=text/html:<p class=\"MsoNormal\"><b><span style=\"mso-an
 si-language:EN-US\">Meet Atlantic Zeiser at TRUSTECH 2024: Enhance your ca
 rd printing experience</span></b></p>\n\n<p class=\"MsoNormal\"><span styl
 e=\"mso-ansi-language:EN-US\"><o:p></o:p>Join Atlantic Zeiser at <a href=\
 "https://www.trustech-event.com/en\" target=\"_blank\">TRUSTECH 2024</a>\,
  the global event for innovative payment and identification solutions. Fro
 m December 3-5 in Paris\, we invite you to visit us at <strong>Booth #B029
 </strong> to discover how our advanced technologies can transform your car
 d production process.<o:p></o:p></span></p>\n\n<p class=\"MsoNormal\"><spa
 n style=\"mso-ansi-language:EN-US\">At our booth\, we’ll be showcasing <
 a href=\"https://www.atlanticzeiser.com/en/solutions/product/persosmart\" 
 target=\"_blank\"><b>PERSOSMART</b></a>\, our compact\, versatile card pri
 nting and personalization system. Designed for a wide range of card materi
 als and applications\, PERSOSMART offers <b>full-color\, edge-to-edge prin
 ting</b> that allows you to create eye-catching\, cost-effective designs. 
 With on-demand printing – from a blank white card to a fully personalize
 d\, vibrant product – you’ll achieve greater flexibility\, reduce cost
 s\, and improve sustainability in your card production.<o:p></o:p></span><
 /p>\n\n<p class=\"MsoNormal\" style=\"mso-list:l0 level1 lfo1\;tab-stops:l
 ist 36.0pt\"><span style=\"mso-ansi-language:EN-US\">We look forward to me
 eting you at TRUSTECH 2024!</span></p>\n\n<p class=\"MsoNormal\" style=\"m
 so-list:l0 level1 lfo1\;tab-stops:list 36.0pt\"><span style=\"mso-ansi-lan
 guage:EN-US\"><o:p></o:p></span></p>\n\n<p class=\"MsoNormal\"><b><span st
 yle=\"mso-ansi-language:EN-US\">TRUSTECH 2024 Venue and Access</span></b><
 span style=\"mso-ansi-language:EN-US\"><o:p></o:p></span></p>\n\n<p class=
 \"MsoNormal\"><span style=\"mso-ansi-language:EN-US\">Paris Expo Porte de 
 Versailles\, 1 Place de la Porte de Versailles\, 75015 Paris\, <strong>Pav
 ilion 5.2</strong><o:p></o:p></span></p>\n\, coesia_editor_manager
X-MICROSOFT-CDO-ALLDAYEVENT:TRUE
DTSTAMP:20260422T035251Z
END:VEVENT
END:VCALENDAR