BEGIN:VCALENDAR
VERSION:2.0
PRODID:https://www.atlanticzeiser.com
X-PUBLISHED-TTL:P1W
BEGIN:VEVENT
UID:69e9e89710910
DTSTART;VALUE=DATE:20240319
SEQUENCE:0
TRANSP:OPAQUE
DTEND;VALUE=DATE:20240322
URL:https://www.atlanticzeiser.com/en/exhibitions/logimat-2024
LOCATION:Stuttgart\, Germany
SUMMARY:LogiMAT
CLASS:PUBLIC
X-ALT-DESC;FMTTYPE=text/html:<p>LogiMAT\, the International Trade Show for 
 Intralogistics Solutions and Process Management\, sets new standards as th
 e biggest annual intralogistics exhibition in Europe. This is the leading 
 international trade fair that provides a comprehensive market overview and
  competent knowledge-transfer.</p>\n\, coesia_editor_manager
X-MICROSOFT-CDO-ALLDAYEVENT:TRUE
DTSTAMP:20260423T113831Z
END:VEVENT
END:VCALENDAR